BEGIN:VCALENDAR
VERSION:2.0
PRODID:-//Centrum Arbitrażu i Mediacji - ECPv4.6.20.1//NONSGML v1.0//EN
CALSCALE:GREGORIAN
METHOD:PUBLISH
X-WR-CALNAME:Centrum Arbitrażu i Mediacji
X-ORIGINAL-URL:https://caim.com.pl
X-WR-CALDESC:Events for Centrum Arbitrażu i Mediacji
BEGIN:VEVENT
DTSTART;TZID=Europe/Warsaw:20210527T160000
DTEND;TZID=Europe/Warsaw:20210527T190000
DTSTAMP:20260422T144847
CREATED:20210427T205014Z
LAST-MODIFIED:20210517T095747Z
UID:1483-1622131200-1622142000@caim.com.pl
SUMMARY:V Konferencja Szkoleniowa i VIII Salon Mediacji - "Przestrzeń dla mediacji w postępowaniu upadłościowym i restrukturyzacyjnym"
DESCRIPTION:
URL:https://caim.com.pl/wydarzenie/konferencja-pod-tytulem-przestrzen-dla-mediacji-w-postepowaniu-upadlosciowym-i-restrukturyzacyjnym/
ATTACH;FMTTYPE=image/jpeg:https://caim.com.pl/wp-content/uploads/2020/04/IMG_6376_edited-kopia.jpg
END:VEVENT
END:VCALENDAR